BEGIN:VCALENDAR
VERSION:2.0
PRODID:-//Joy della Vita - ECPv6.15.20//NONSGML v1.0//EN
CALSCALE:GREGORIAN
METHOD:PUBLISH
X-WR-CALNAME:Joy della Vita
X-ORIGINAL-URL:https://joydellavita.com
X-WR-CALDESC:Events for Joy della Vita
REFRESH-INTERVAL;VALUE=DURATION:PT1H
X-Robots-Tag:noindex
X-PUBLISHED-TTL:PT1H
BEGIN:VTIMEZONE
TZID:Europe/Berlin
BEGIN:DAYLIGHT
TZOFFSETFROM:+0100
TZOFFSETTO:+0200
TZNAME:CEST
DTSTART:20240331T010000
END:DAYLIGHT
BEGIN:STANDARD
TZOFFSETFROM:+0200
TZOFFSETTO:+0100
TZNAME:CET
DTSTART:20241027T010000
END:STANDARD
BEGIN:DAYLIGHT
TZOFFSETFROM:+0100
TZOFFSETTO:+0200
TZNAME:CEST
DTSTART:20250330T010000
END:DAYLIGHT
BEGIN:STANDARD
TZOFFSETFROM:+0200
TZOFFSETTO:+0100
TZNAME:CET
DTSTART:20251026T010000
END:STANDARD
BEGIN:DAYLIGHT
TZOFFSETFROM:+0100
TZOFFSETTO:+0200
TZNAME:CEST
DTSTART:20260329T010000
END:DAYLIGHT
BEGIN:STANDARD
TZOFFSETFROM:+0200
TZOFFSETTO:+0100
TZNAME:CET
DTSTART:20261025T010000
END:STANDARD
END:VTIMEZONE
BEGIN:VEVENT
DTSTART;TZID=Europe/Berlin:20250524T000000
DTEND;TZID=Europe/Berlin:20250525T235959
DTSTAMP:20260422T032842
CREATED:20250519T125759Z
LAST-MODIFIED:20250521T172239Z
UID:54234-1748044800-1748217599@joydellavita.com
SUMMARY:Experience Tuscan Wine Culture at Cantine Aperte Montepulciano 2025
DESCRIPTION:Wine lovers are invited to the picturesque region of Montepulciano\, Tuscany\, for the popular Cantine Aperte (‘Open Wineries’) event\, taking place on 24th and 25th May 2025. This annual initiative sees local wineries open their doors to the public\, offering a unique opportunity to delve into the heart of Tuscan wine production. \nDiscover Montepulciano’s Vineyards\nThroughout the weekend\, participating estates in the Montepulciano area welcome visitors for guided tours through their beautiful vineyards and cellars. Guests can learn firsthand about the winemaking process\, from grape to bottle\, directly from the passionate producers. \nTasting the Flavours of Tuscany\nA highlight of Cantine Aperte is the chance to taste the exquisite wines of the region\, including the renowned Vino Nobile di Montepulciano. Visitors can enjoy guided tastings\, savouring the distinct characteristics of these celebrated wines while soaking in the stunning Tuscan scenery. It’s a perfect occasion to connect with the producers and experience the authentic flavour of this beautiful part of Italy. \nCantine Aperte: Event Details\nDates: 25th – 26th May 2025\nLocation: Montepulciano\, Tuscany\, Italy
URL:https://joydellavita.com/event/tuscan-wine-culture-cantine-aperte-montepulciano-2025/
LOCATION:Montepulciano\, Montepulciano\, Montepulciano\, Italy
CATEGORIES:Food Event / Food Festival / Gourmet Fair
END:VEVENT
END:VCALENDAR