BEGIN:VCALENDAR
VERSION:2.0
PRODID:-//Joy della Vita - ECPv6.15.20//NONSGML v1.0//EN
CALSCALE:GREGORIAN
METHOD:PUBLISH
X-WR-CALNAME:Joy della Vita
X-ORIGINAL-URL:https://joydellavita.com
X-WR-CALDESC:Events for Joy della Vita
REFRESH-INTERVAL;VALUE=DURATION:PT1H
X-Robots-Tag:noindex
X-PUBLISHED-TTL:PT1H
BEGIN:VTIMEZONE
TZID:Europe/Berlin
BEGIN:DAYLIGHT
TZOFFSETFROM:+0100
TZOFFSETTO:+0200
TZNAME:CEST
DTSTART:20240331T010000
END:DAYLIGHT
BEGIN:STANDARD
TZOFFSETFROM:+0200
TZOFFSETTO:+0100
TZNAME:CET
DTSTART:20241027T010000
END:STANDARD
BEGIN:DAYLIGHT
TZOFFSETFROM:+0100
TZOFFSETTO:+0200
TZNAME:CEST
DTSTART:20250330T010000
END:DAYLIGHT
BEGIN:STANDARD
TZOFFSETFROM:+0200
TZOFFSETTO:+0100
TZNAME:CET
DTSTART:20251026T010000
END:STANDARD
BEGIN:DAYLIGHT
TZOFFSETFROM:+0100
TZOFFSETTO:+0200
TZNAME:CEST
DTSTART:20260329T010000
END:DAYLIGHT
BEGIN:STANDARD
TZOFFSETFROM:+0200
TZOFFSETTO:+0100
TZNAME:CET
DTSTART:20261025T010000
END:STANDARD
END:VTIMEZONE
BEGIN:VEVENT
DTSTART;TZID=Europe/Berlin:20250701T000000
DTEND;TZID=Europe/Berlin:20250706T235959
DTSTAMP:20260422T000242
CREATED:20250513T124745Z
LAST-MODIFIED:20250515T184642Z
UID:54055-1751328000-1751846399@joydellavita.com
SUMMARY:Coca-Cola Pizza Village Naples 2025 - Pizza Festival
DESCRIPTION:From 1st to 6th July 2025\, the Coca-Cola Pizza Village will be your number one Pizza Festival in Italy. Prepare for a delicious celebration as the Coca-Cola Pizza Village returns to Naples from 1st to 6th July 2025. Located within the magnificent 30\,000 sq m green spaces of the Mostra d’Oltremare\, this vibrant event offers free access to all visitors. It stands as a true homage to pizza\, the cornerstone of Italy’s culinary identity\, bringing together the world’s most renowned pizzerias. \nPizza Village Napoli Event Highlights & Activities\nOver six unforgettable days and nights\, the village will host a packed schedule. Expect great shows and live music lighting up the stage nightly. Italy’s leading radio\, RTL 102.5\, the Official Media Partner\, will provide daily live coverage. Attendees can also enjoy free MasterClass evenings\, engaging activities for children focused on food education and traditions\, and exclusive press conferences with tastings in the new Area Pizza Tales. It’s a complete immersion into the world of Neapolitan pizza and culture. \nKey Details \nDates: 1st – 6th July 2025\nLocation: Mostra d’Oltremare\, Naples\nNearest train station: Naples Campi Flegrei\nAdmission to the Pizza Village Festival grounds: Free \nRead more about the event in the Pizza Blogpost Archive.
URL:https://joydellavita.com/event/pizza-village-naples-2025/
LOCATION:Napoli Mostra d’Oltremare\, Viale John Fitzgerald Kennedy\, 54\, Napoli\, 80125\, Italy
CATEGORIES:Events in Italy,Food Event / Food Festival / Gourmet Fair
END:VEVENT
END:VCALENDAR