BEGIN:VCALENDAR
VERSION:2.0
PRODID:-//Joy della Vita - ECPv6.15.20//NONSGML v1.0//EN
CALSCALE:GREGORIAN
METHOD:PUBLISH
X-ORIGINAL-URL:https://joydellavita.com
X-WR-CALDESC:Events for Joy della Vita
REFRESH-INTERVAL;VALUE=DURATION:PT1H
X-Robots-Tag:noindex
X-PUBLISHED-TTL:PT1H
BEGIN:VTIMEZONE
TZID:Europe/Berlin
BEGIN:DAYLIGHT
TZOFFSETFROM:+0100
TZOFFSETTO:+0200
TZNAME:CEST
DTSTART:20240331T010000
END:DAYLIGHT
BEGIN:STANDARD
TZOFFSETFROM:+0200
TZOFFSETTO:+0100
TZNAME:CET
DTSTART:20241027T010000
END:STANDARD
BEGIN:DAYLIGHT
TZOFFSETFROM:+0100
TZOFFSETTO:+0200
TZNAME:CEST
DTSTART:20250330T010000
END:DAYLIGHT
BEGIN:STANDARD
TZOFFSETFROM:+0200
TZOFFSETTO:+0100
TZNAME:CET
DTSTART:20251026T010000
END:STANDARD
BEGIN:DAYLIGHT
TZOFFSETFROM:+0100
TZOFFSETTO:+0200
TZNAME:CEST
DTSTART:20260329T010000
END:DAYLIGHT
BEGIN:STANDARD
TZOFFSETFROM:+0200
TZOFFSETTO:+0100
TZNAME:CET
DTSTART:20261025T010000
END:STANDARD
END:VTIMEZONE
BEGIN:VEVENT
DTSTART;TZID=Europe/Berlin:20250902T000000
DTEND;TZID=Europe/Berlin:20250907T235959
DTSTAMP:20260422T154555
CREATED:20250513T095041Z
LAST-MODIFIED:20250515T184628Z
UID:54043-1756771200-1757289599@joydellavita.com
SUMMARY:Coca-Cola Pizza Village Milan 2025 - Pizza Festival
DESCRIPTION:Welcome to Pizza Village Milan – prepare for a celebration of Italian culinary identity as the Coca-Cola Pizza Village returns to Milan’s splendid CityLife Park from 2nd to 7th September 2025. This vibrant event combines the artistry of the best Italian Pizza Masters with a lively mix of music\, entertainment\, and activities for all ages. \nPizza Village Event Highlights\nFollowing two highly successful editions\, the Pizza Village offers a true ode to pizza\, served by master craftsmen using excellent ingredients. Visitors can enjoy great shows and live music lighting up the stage each evening. Experience the convenience of fully digital ordering\, allowing seamless payment via smartphone. CityLife Park provides a stunning\, modern backdrop for this delicious festival. \nRead more about the event in the Pizza Blogpost Archive.
URL:https://joydellavita.com/event/pizza-village-milan-2025/
LOCATION:Milan CityLife Park\, Piazza Elsa Morante\, Milan\, 20145\, Italy
CATEGORIES:Events in Italy,Food Event / Food Festival / Gourmet Fair,Italy
END:VEVENT
END:VCALENDAR