BEGIN:VCALENDAR
VERSION:2.0
PRODID:-//Joy della Vita - ECPv6.15.20//NONSGML v1.0//EN
CALSCALE:GREGORIAN
METHOD:PUBLISH
X-WR-CALNAME:Joy della Vita
X-ORIGINAL-URL:https://joydellavita.com
X-WR-CALDESC:Events for Joy della Vita
REFRESH-INTERVAL;VALUE=DURATION:PT1H
X-Robots-Tag:noindex
X-PUBLISHED-TTL:PT1H
BEGIN:VTIMEZONE
TZID:Europe/Berlin
BEGIN:DAYLIGHT
TZOFFSETFROM:+0100
TZOFFSETTO:+0200
TZNAME:CEST
DTSTART:20240331T010000
END:DAYLIGHT
BEGIN:STANDARD
TZOFFSETFROM:+0200
TZOFFSETTO:+0100
TZNAME:CET
DTSTART:20241027T010000
END:STANDARD
BEGIN:DAYLIGHT
TZOFFSETFROM:+0100
TZOFFSETTO:+0200
TZNAME:CEST
DTSTART:20250330T010000
END:DAYLIGHT
BEGIN:STANDARD
TZOFFSETFROM:+0200
TZOFFSETTO:+0100
TZNAME:CET
DTSTART:20251026T010000
END:STANDARD
BEGIN:DAYLIGHT
TZOFFSETFROM:+0100
TZOFFSETTO:+0200
TZNAME:CEST
DTSTART:20260329T010000
END:DAYLIGHT
BEGIN:STANDARD
TZOFFSETFROM:+0200
TZOFFSETTO:+0100
TZNAME:CET
DTSTART:20261025T010000
END:STANDARD
END:VTIMEZONE
BEGIN:VEVENT
DTSTART;TZID=Europe/Berlin:20250508T000000
DTEND;TZID=Europe/Berlin:20250510T235959
DTSTAMP:20260425T144941
CREATED:20250505T182437Z
LAST-MODIFIED:20250515T184910Z
UID:53518-1746662400-1746921599@joydellavita.com
SUMMARY:Targa Florio Historic Regularity Rally 2025: A Sicilian Classic
DESCRIPTION:Step back in time and witness automotive history unfold at the Targa Florio Historic Regularity Rally\, set against the breathtaking backdrop of Sicily. From 8th to 10th May 2025\, enthusiasts and spectators alike can experience the thrill of classic cars navigating the legendary routes around Palermo. This prestigious event celebrates the rich heritage of the original Targa Florio race\, bringing together beautifully preserved vintage vehicles and their passionate drivers for a captivating display of precision and endurance. \nEvent Details: Targa Florio\nExperience the iconic Targa Florio spirit as participants tackle challenging regularity tests across stunning Sicilian landscapes. This rally isn’t just a competition; it’s a vibrant festival of automotive culture\, attracting international participants and showcasing the timeless elegance of classic motoring. Discover more about the programme and participants on the official Targa Florio website.
URL:https://joydellavita.com/event/targa-florio-historic-2025/
LOCATION:Palermo\, City Centre\, Palermo\, Italy
CATEGORIES:Automotive Event/ Car Fair,Classic Car / Vintage Cars Event,Events in Italy
END:VEVENT
END:VCALENDAR