BEGIN:VCALENDAR
VERSION:2.0
PRODID:-//Joy della Vita - ECPv6.15.20//NONSGML v1.0//EN
CALSCALE:GREGORIAN
METHOD:PUBLISH
X-WR-CALNAME:Joy della Vita
X-ORIGINAL-URL:https://joydellavita.com
X-WR-CALDESC:Events for Joy della Vita
REFRESH-INTERVAL;VALUE=DURATION:PT1H
X-Robots-Tag:noindex
X-PUBLISHED-TTL:PT1H
BEGIN:VTIMEZONE
TZID:Europe/Berlin
BEGIN:DAYLIGHT
TZOFFSETFROM:+0100
TZOFFSETTO:+0200
TZNAME:CEST
DTSTART:20240331T010000
END:DAYLIGHT
BEGIN:STANDARD
TZOFFSETFROM:+0200
TZOFFSETTO:+0100
TZNAME:CET
DTSTART:20241027T010000
END:STANDARD
BEGIN:DAYLIGHT
TZOFFSETFROM:+0100
TZOFFSETTO:+0200
TZNAME:CEST
DTSTART:20250330T010000
END:DAYLIGHT
BEGIN:STANDARD
TZOFFSETFROM:+0200
TZOFFSETTO:+0100
TZNAME:CET
DTSTART:20251026T010000
END:STANDARD
BEGIN:DAYLIGHT
TZOFFSETFROM:+0100
TZOFFSETTO:+0200
TZNAME:CEST
DTSTART:20260329T010000
END:DAYLIGHT
BEGIN:STANDARD
TZOFFSETFROM:+0200
TZOFFSETTO:+0100
TZNAME:CET
DTSTART:20261025T010000
END:STANDARD
END:VTIMEZONE
BEGIN:VEVENT
DTSTART;TZID=Europe/Berlin:20250418T000000
DTEND;TZID=Europe/Berlin:20251024T235959
DTSTAMP:20260425T122331
CREATED:20250520T082935Z
LAST-MODIFIED:20250521T172239Z
UID:54287-1744934400-1761350399@joydellavita.com
SUMMARY:Montecatini Opera Festival 2025: A Tuscan Cultural Gem
DESCRIPTION:Prepare to be enchanted by the 27th edition of the Montecatini Opera Festival\, a prestigious celebration of music\, art\, and culture set against the stunning architectural backdrop of Montecatini Terme. Running from 18th April to 24th October 2025\, this high-profile event continues the city’s rich legacy as a haven for Italy’s greatest operatic composers\, including Verdi and Puccini\, who sought inspiration and rejuvenation here. \nMontecatini Opera Festival 2025: A Programme of World-Class Performances\nThe 2025 festival promises an exceptional line-up featuring internationally renowned artists alongside exciting young talents. The Opening Gala will be a highlight\, welcoming soprano Mariangela Sicilia\, recipient of the prestigious Premio Internazionale Il Parnaso 2025. Audiences can also look forward to a captivating “Omaggio ai Tre Tenori – Notti Magiche”\, reviving the magic of Pavarotti\, Carreras\, and Domingo. The programme further includes innovative international projects\, tributes to Giacomo Puccini\, and a new original production\, “Emoción Ópera y Tango”. Performances are often accompanied by the festival’s resident Montecatini Opera Festival Orchestra. \nIconic UNESCO Venue\nThe festival primarily takes place at the magnificent Terme Tettuccio\, a recently designated UNESCO World Heritage site. This Liberty-style architectural jewel provides a unique\, intimate setting that dissolves the traditional distance between performer and audience\, creating an unforgettable operatic experience. \nEssential Information\nWhen: 18th April – 24th October 2025\nWhere: Terme Tettuccio\, Piazza Domenico Giusti\, 41\, Montecatini Terme PT\, Italy\nPrice: €40\nWebsite: Visit the official website as linked below for the full programme and details.
URL:https://joydellavita.com/event/montecatini-opera-festival-2025/
LOCATION:Montecatini Terme\, Montecatini Terme\, Montecatini Terme\, Italy
CATEGORIES:Cultural Event / Festival,Events in Italy
END:VEVENT
BEGIN:VEVENT
DTSTART;TZID=Europe/Berlin:20250510T000000
DTEND;TZID=Europe/Berlin:20251123T235959
DTSTAMP:20260425T122331
CREATED:20250519T100626Z
LAST-MODIFIED:20250521T172239Z
UID:54225-1746835200-1763942399@joydellavita.com
SUMMARY:Venice Architecture Biennale 2025: Exploring 'Intelligens'
DESCRIPTION:Prepare to immerse yourself in the future of architecture as the prestigious Biennale di Architettura returns to Venice from May to 23rd November 2025. Renowned globally as a key platform for contemporary architectural discourse and innovation\, this major event transforms the historic city into a dynamic exhibition space. \nVenice Architecture Biennale 2025: Dates\, Location & Theme\nRunning for several months\, the Biennale is primarily hosted across the Giardini and the Arsenale venues\, alongside various collateral events held throughout Venice. The 2025 edition is anchored by the compelling theme\, “Intelligens: Natural. Artificial. Collective.” This central concept delves into the complex and evolving relationships between human intellect\, the natural world\, and artificial intelligence\, examining how these intersections are shaping architectural thought and practice today and into the future. Visitors can anticipate thought-provoking installations\, national pavilions\, and exhibitions showcasing diverse perspectives on these critical topics. \nDiscover more details and plan your visit via the official website as linked below.
URL:https://joydellavita.com/event/venice-architecture-biennale-2025/
LOCATION:Venice\, Venice\, Venice\, Italy
CATEGORIES:Cultural Event / Festival,Events in Italy
END:VEVENT
BEGIN:VEVENT
DTSTART;TZID=Europe/Berlin:20250614T000000
DTEND;TZID=Europe/Berlin:20250905T235959
DTSTAMP:20260425T122331
CREATED:20250520T080903Z
LAST-MODIFIED:20250521T172239Z
UID:54271-1749859200-1757116799@joydellavita.com
SUMMARY:Estate Fiesolana 2025: Italy's Oldest Open-Air Festival
DESCRIPTION:Prepare to be enchanted by the 78th edition of Estate Fiesolana\, Italy’s most historic multidisciplinary open-air festival. Running from 14th June to 5th September 2025\, this esteemed event transforms Fiesole\, near Florence\, into a vibrant hub of arts and culture. Rooted in a tradition dating back to 1911\, Estate Fiesolana has been a celebrated fixture since 1947\, consistently delivering world-class entertainment. \nEstate Fiesolana 2025: A Rich Programme in Historic Settings\nEach summer\, the festival curates an eclectic programme of theatre\, music\, dance\, and cinema\, featuring both national and international artists. The captivating Roman Theatre of Fiesole serves as the primary stage\, offering an unparalleled historical backdrop\, complemented by other prestigious venues across Fiesole and its charming surroundings. Highlights include the traditional Festa della Musica on 21st June\, and “Il Cinema sotto le Stelle” from 7th to 23rd August\, showcasing acclaimed films. \nPrestigious Accolades and Cultural Immersion\nEstate Fiesolana is also renowned for hosting the prestigious Premio Fiesole ai Maestri del Cinema\, an award previously bestowed upon legendary figures such as Orson Welles\, Stanley Kubrick\, and Spike Lee. This cultural celebration\, offering tickets from €0 to €46\, promises an unforgettable summer experience amidst Tuscany’s timeless beauty. \nEvent Details Dates: 14th June – 5th September 2025\nLocation: Via Portigiani\, 1\, 50014 Fiesole FI\, Italy\nWebsite: as linked below
URL:https://joydellavita.com/event/estate-fiesolana-2025-italys-oldest-open-air-festival/
LOCATION:Fiesole\, Fiesole\, Fiesole\, Italy
CATEGORIES:Cultural Event / Festival,Events in Italy
END:VEVENT
BEGIN:VEVENT
DTSTART;TZID=Europe/Berlin:20250621T000000
DTEND;TZID=Europe/Berlin:20250907T235959
DTSTAMP:20260425T122331
CREATED:20250520T083207Z
LAST-MODIFIED:20250521T172239Z
UID:54291-1750464000-1757289599@joydellavita.com
SUMMARY:Medieval Pageantry at Arezzo's Giostra del Saracino 2025
DESCRIPTION:Step back in time with the Giostra del Saracino di Arezzo\, a significant and beloved secular tradition with medieval origins. This captivating folkloric event\, a highlight of the Tuscan calendar\, transforms Piazza Grande into a historical arena twice a year. In 2025\, the spectacle unfolds on the evening of Saturday\, 21st June (the Giostra di San Donato\, honouring the city’s patron saint) and again on the day of Sunday\, 7th September (the Giostra della Madonna del Conforto\, dedicated to Arezzo’s protectress). \nDating back to the Middle Ages\, as even referenced by Dante Alighieri\, the Giostra del Saracino sees Arezzo’s four city quarters – Porta Crucifera\, Porta del Foro\, Porta Sant’Andrea\, and Porta Santo Spirito – vie for the coveted Lancia d’Oro (Golden Lance). Each quarter fields two knights\, or ‘giostratori’\, who charge down the lizza\, a strip of beaten earth\, aiming their wooden lances at the ‘Buratto’\, a spring-loaded metallic dummy armed with a flail. Precision is key as they score points based on where they strike the target. \nThe competition is a feast for the senses\, preceded by a vibrant historical procession\, the dramatic performance of the Sbandieratori (flag-wavers)\, and the stirring sound of trumpets from the Giostra del Saracino Music Group. This immersive event offers a unique glimpse into the heart of Tuscan history and tradition. \nKey Information: \n\nWhen: 21st June and 7th September 2025\nWhere: Piazza Grande\, Arezzo\, Italy\nWebsite: linked below
URL:https://joydellavita.com/event/arezzo-giostra-del-saracino-2025/
LOCATION:Arezzo\, Arezzo\, Arezzo\, Italy
CATEGORIES:Cultural Event / Festival,Events in Italy
END:VEVENT
BEGIN:VEVENT
DTSTART;TZID=Europe/Berlin:20250711T000000
DTEND;TZID=Europe/Berlin:20250829T235959
DTSTAMP:20260425T122331
CREATED:20250520T082605Z
LAST-MODIFIED:20250521T172222Z
UID:54281-1752192000-1756511999@joydellavita.com
SUMMARY:Festival La Versiliana 2025: A Summer of Arts and Culture in Tuscany
DESCRIPTION:Prepare for an enchanting summer as the 46th edition of the Festival La Versiliana graces Marina di Pietrasanta from 11th July to 29th August 2025. Set within the idyllic pine groves of Villa La Versiliana Park\, this renowned Italian festival presents an intense and high-calibre artistic programme across two months\, offering a rich tapestry of theatre\, dance\, music\, satire\, and cabaret. \nLa Versiliana: A Diverse Cultural Programme\nLa Versiliana’s multidisciplinary schedule features performances by leading artists\, acclaimed dance companies\, and beloved singer-songwriters on its magnificent open-air stage. Beyond the main theatre\, the festival encompasses the celebrated ‘Incontri al Caffè de La Versiliana’\, cultural talks dedicated to art\, science\, and politics. Art enthusiasts can explore a series of compelling exhibitions\, while families will delight in ‘La Versiliana dei Piccoli’\, a dedicated children’s programme running even longer\, from 18th June to 27th August. \nContemporary Arts and Unique Venues\nAdding a modern twist\, the ‘Versiliana Contemporary Theatre’ section\, launched in recent years\, offers an eclectic mix of contemporary prose\, dance\, and theatre. These innovative performances\, featuring both established names and emerging talents\, take place within the evocative setting of the Giardino Barsanti in the historic Chiostro di Sant’Agostino. \nEvent Details\nThe Festival La Versiliana is held at Viale Enrico Morin\, 16\, 55045 Marina di Pietrasanta\, Italy. Ticket prices range from 0€ to 58€. For the complete programme and updates\, please visit the official website as linked below.
URL:https://joydellavita.com/event/festival-la-versiliana-2025-tuscany/
LOCATION:Marina di Pietrasanta\, Marina di Pietrasanta\, Marina di Pietrasanta\, Italy
CATEGORIES:Cultural Event / Festival,Events in Italy
END:VEVENT
BEGIN:VEVENT
DTSTART;TZID=Europe/Berlin:20250730T000000
DTEND;TZID=Europe/Berlin:20250803T235959
DTSTAMP:20260425T122331
CREATED:20250519T130120Z
LAST-MODIFIED:20250521T172222Z
UID:54240-1753833600-1754265599@joydellavita.com
SUMMARY:Ortigia Sound System Festival 2025: Electronic Beats in Historic Sicily
DESCRIPTION:Prepare for an unforgettable fusion of electronic music and stunning Italian scenery as the Ortigia Sound System Festival returns from 30th July to 3rd August 2025. Set within the breathtakingly beautiful ancient island of Ortigia\, the historical heart of Syracuse\, Sicily\, this festival offers a truly unique cultural experience. \nOrtigia Sound System Festival 2025\nKnown for its carefully curated line-up\, the festival transforms the charming streets\, piazzas\, and coastal spots of Ortigia into vibrant venues. Attendees can immerse themselves in cutting-edge electronic music\, performed by a diverse array of international DJs and artists\, against a backdrop of Baroque architecture and the sparkling Mediterranean Sea. Beyond the music\, the festival often incorporates cultural elements\, celebrating the rich heritage of its location. It’s an essential event for lovers of electronic music seeking a distinctive festival experience in a captivating Mediterranean setting. \nOrtigia Sound System Festival: Event Details\nDates: 30th July – 3rd August 2025\nLocation: Ortigia\, Syracuse\, Sicily\, Italy
URL:https://joydellavita.com/event/ortigia-sound-system-festival-2025-sicily/
LOCATION:Ortigia\, Sicily\, Ortigia\, Ortigia\, Sicily\, Italy
CATEGORIES:Cultural Event / Festival,Events in Italy
END:VEVENT
BEGIN:VEVENT
DTSTART;TZID=Europe/Berlin:20250802T000000
DTEND;TZID=Europe/Berlin:20250803T235959
DTSTAMP:20260425T122331
CREATED:20250521T103541Z
LAST-MODIFIED:20250521T172222Z
UID:54347-1754092800-1754265599@joydellavita.com
SUMMARY:Arezzo's Historic Antiques Fair in August 2025
DESCRIPTION:Step back in time and uncover unique treasures at the Fiera Antiquaria di Arezzo\, Italy’s oldest antiques fair\, taking place on 2nd and 3rd August 2025. Since its inception in 1968 by collector Ivan Bruschi\, this unmissable monthly market has been a continuous success story\, attracting enthusiasts from across the globe. \nBeloved Antique Market in Tuscany\nSet against the breathtaking backdrop of Arezzo’s historic centre\, including Piazza Grande\, Piazza San Francesco\, and the stunning Logge Vasari\, the fair transforms these iconic squares into a vibrant hub. Over 500 exhibitors from all over Italy gather\, offering a diverse array of items. You’ll find everything from antique furniture\, paintings\, and rare books to vintage toys\, watches\, porcelain\, and unique curiosities. \nFor serious collectors\, the thrill of the hunt often begins the evening before the official opening\, with keen eyes sifting through goods still packed on lorries. Negotiations\, sometimes lively\, continue until Sunday’s sunset. Attending the Fiera Antiquaria also provides a wonderful opportunity to explore the artistic heritage of Arezzo itself\, a beautiful Tuscan city often overlooked by mainstream tourism. \nDiscover all Events in Arezzo in 2025 and beyond. \nEvent Information\nWhen: 2nd and 3rd August 2025 (always the first Sunday of the month and the preceding Saturday)\nWhere: Piazza Grande\, Arezzo\, Italy\nWebsite: fieraantiquaria.org
URL:https://joydellavita.com/event/arezzos-historic-antiques-fair-in-august-2025/
LOCATION:Arezzo\, Arezzo\, Arezzo\, Italy
CATEGORIES:Cultural Event / Festival,Events in Italy
END:VEVENT
BEGIN:VEVENT
DTSTART;TZID=Europe/Berlin:20250810T000000
DTEND;TZID=Europe/Berlin:20250817T235959
DTSTAMP:20260425T122331
CREATED:20250521T084259Z
LAST-MODIFIED:20250521T172222Z
UID:54322-1754784000-1755475199@joydellavita.com
SUMMARY:Experience Volterra AD 1398 in Tuscany
DESCRIPTION:Prepare to be transported to the heart of the Middle Ages as Volterra AD 1398 returns to the stunning Tuscan hilltop town of Volterra on 10th and 17th August 2025. This captivating historical re-enactment offers a unique opportunity to immerse yourself in the enchanting atmosphere of the year 1398. \nDiscover Medieval Life at Volterra AD 1398\nFrom dawn until nightfall\, the entire town transforms. Witness daring knights\, noble ladies\, monks\, artisans\, and merchants mingling with flag-wavers\, archers\, jugglers\, and jesters amidst Volterra’s austere towers\, grand palaces\, and simple village houses. Set against the magnificent backdrop of the Fortezza Medicea\, the festival brings to life the sights\, sounds\, and spectacles of medieval life. \nFor two full days\, the streets of Volterra will hum with historical markets\, fascinating workshops\, vibrant musical performances\, and captivating street shows. It’s an unparalleled chance to experience the magic of the past in one of Tuscany’s most beautiful and historic cities. Don’t miss this incredible journey through time! \nEvent Information: \n\nWhen: 10th & 17th August 2025 (Second and third Sundays of August)\nWhere: Volterra\, Tuscany\, Italy\nTickets: From 9€ to 13€\nWebsite: volterra1398.it
URL:https://joydellavita.com/event/volterra-ad-1398-tuscany/
LOCATION:Volterra\, Volterra\, Volterra\, Italy
CATEGORIES:Cultural Event / Festival,Events in Italy
END:VEVENT
BEGIN:VEVENT
DTSTART;TZID=Europe/Berlin:20250813T000000
DTEND;TZID=Europe/Berlin:20250816T235959
DTSTAMP:20260425T122331
CREATED:20250520T190018Z
LAST-MODIFIED:20250521T172222Z
UID:54307-1755043200-1755388799@joydellavita.com
SUMMARY:Palio dell'Assunta in Siena: Italy's ancient Horse Race spectacle in 2025
DESCRIPTION:Prepare to be captivated by the Palio di Siena\, Italy’s most celebrated historic horse race and folkloric re-enactment. Boasting centuries-old origins\, this iconic event transforms Siena’s magnificent Piazza del Campo\, the city’s main medieval square\, into a vibrant arena twice a year. Mark your calendars for 2nd July\, featuring the Palio della Madonna di Provenzano\, and 16th August for the Palio dell’Assunta. \nPalio dell’Assunta in Siena: A Timeless Tradition\nMore than just a race\, the Palio is a profound passion and integral part of Sienese life. Each edition unfolds over four enthralling days\, from 29th June leading to the 2nd July race\, and again from 13th to 16th August. The event embodies centuries of rivalry between the city’s seventeen districts\, known as “contrade\,” to which every Sienese person belongs. The coveted prize\, the “Drappellone\,” is a large\, beautifully painted silk canvas\, uniquely designed by a different artist each year. \nPalio dell’Assunta in Siena: The Thrilling Race\nThe Palio itself is a breathtaking dash consisting of three intense laps around Piazza del Campo\, on a track specially prepared with sand and “tufo.” Ten horses and their bareback jockeys\, representing competing contrade\, await the start at the ‘Mossa’. The victorious horse\, whether its jockey remains mounted or not\, is the first to complete the three circuits\, bringing immense pride and celebration to its district. \nLocation: Piazza del Campo\, Siena\, Italy\nDates: 2nd July & 16th August (main race days\, with four-day celebrations)
URL:https://joydellavita.com/event/palio-dellassunta-siena-italy-2025/
LOCATION:Siena\, Siena\, Siena\, Italy
CATEGORIES:Cultural Event / Festival,Events in Italy
END:VEVENT
BEGIN:VEVENT
DTSTART;TZID=Europe/Berlin:20250823T000000
DTEND;TZID=Europe/Berlin:20250823T235959
DTSTAMP:20260425T122331
CREATED:20250519T131833Z
LAST-MODIFIED:20250521T172222Z
UID:54246-1755907200-1755993599@joydellavita.com
SUMMARY:La Notte della Taranta 2025: Experience Southern Italy's Rhythm
DESCRIPTION:Prepare to be swept away by the electrifying energy of the 28th edition of La Notte della Taranta\, one of Italy’s most significant music festivals. Celebrating the vibrant traditions of Pizzica music and dance\, this annual event draws crowds to the heart of Apulia. \nLeading up to the grand finale\, the festival typically features a series of concerts held in various towns across the Salento region\, offering a taste of authentic southern Italian culture and sound. The festivities culminate in a spectacular free mega-concert in the town of Melpignano on 23rd August 2025. This final night sees renowned musicians and a guest ‘Maestro Concertatore’ reinterpret traditional Pizzica pieces\, blending them with various musical genres for a unique\, unforgettable performance that lasts late into the night. \nWitness this incredible celebration of Apulian heritage\, rhythm\, and passion under the starry August sky in Melpignano. \nLa Notte della Taranta: Event Details\n\nWhat: La Notte della Taranta 2025 (28th Edition)\nWhen: Saturday\, 23rd August 2025\nWhere: Melpignano\, Apulia\, Italy\nFocus: Traditional Pizzica Music & Dance Festival\n\nThis major cultural highlight offers a deep dive into the musical soul of Southern Italy.
URL:https://joydellavita.com/event/la-notte-della-taranta-2025/
LOCATION:Melpignano\, Melpignano\, Melpignano\, Italy
CATEGORIES:Cultural Event / Festival,Events in Italy
END:VEVENT
END:VCALENDAR