BEGIN:VCALENDAR
VERSION:2.0
PRODID:-//Joy della Vita - ECPv6.15.20//NONSGML v1.0//EN
CALSCALE:GREGORIAN
METHOD:PUBLISH
X-ORIGINAL-URL:https://joydellavita.com
X-WR-CALDESC:Events for Joy della Vita
REFRESH-INTERVAL;VALUE=DURATION:PT1H
X-Robots-Tag:noindex
X-PUBLISHED-TTL:PT1H
BEGIN:VTIMEZONE
TZID:Europe/Berlin
BEGIN:DAYLIGHT
TZOFFSETFROM:+0100
TZOFFSETTO:+0200
TZNAME:CEST
DTSTART:20240331T010000
END:DAYLIGHT
BEGIN:STANDARD
TZOFFSETFROM:+0200
TZOFFSETTO:+0100
TZNAME:CET
DTSTART:20241027T010000
END:STANDARD
BEGIN:DAYLIGHT
TZOFFSETFROM:+0100
TZOFFSETTO:+0200
TZNAME:CEST
DTSTART:20250330T010000
END:DAYLIGHT
BEGIN:STANDARD
TZOFFSETFROM:+0200
TZOFFSETTO:+0100
TZNAME:CET
DTSTART:20251026T010000
END:STANDARD
BEGIN:DAYLIGHT
TZOFFSETFROM:+0100
TZOFFSETTO:+0200
TZNAME:CEST
DTSTART:20260329T010000
END:DAYLIGHT
BEGIN:STANDARD
TZOFFSETFROM:+0200
TZOFFSETTO:+0100
TZNAME:CET
DTSTART:20261025T010000
END:STANDARD
END:VTIMEZONE
BEGIN:VEVENT
DTSTART;TZID=Europe/Berlin:20250418T000000
DTEND;TZID=Europe/Berlin:20251024T235959
DTSTAMP:20260421T135409
CREATED:20250520T082935Z
LAST-MODIFIED:20250521T172239Z
UID:54287-1744934400-1761350399@joydellavita.com
SUMMARY:Montecatini Opera Festival 2025: A Tuscan Cultural Gem
DESCRIPTION:Prepare to be enchanted by the 27th edition of the Montecatini Opera Festival\, a prestigious celebration of music\, art\, and culture set against the stunning architectural backdrop of Montecatini Terme. Running from 18th April to 24th October 2025\, this high-profile event continues the city’s rich legacy as a haven for Italy’s greatest operatic composers\, including Verdi and Puccini\, who sought inspiration and rejuvenation here. \nMontecatini Opera Festival 2025: A Programme of World-Class Performances\nThe 2025 festival promises an exceptional line-up featuring internationally renowned artists alongside exciting young talents. The Opening Gala will be a highlight\, welcoming soprano Mariangela Sicilia\, recipient of the prestigious Premio Internazionale Il Parnaso 2025. Audiences can also look forward to a captivating “Omaggio ai Tre Tenori – Notti Magiche”\, reviving the magic of Pavarotti\, Carreras\, and Domingo. The programme further includes innovative international projects\, tributes to Giacomo Puccini\, and a new original production\, “Emoción Ópera y Tango”. Performances are often accompanied by the festival’s resident Montecatini Opera Festival Orchestra. \nIconic UNESCO Venue\nThe festival primarily takes place at the magnificent Terme Tettuccio\, a recently designated UNESCO World Heritage site. This Liberty-style architectural jewel provides a unique\, intimate setting that dissolves the traditional distance between performer and audience\, creating an unforgettable operatic experience. \nEssential Information\nWhen: 18th April – 24th October 2025\nWhere: Terme Tettuccio\, Piazza Domenico Giusti\, 41\, Montecatini Terme PT\, Italy\nPrice: €40\nWebsite: Visit the official website as linked below for the full programme and details.
URL:https://joydellavita.com/event/montecatini-opera-festival-2025/
LOCATION:Montecatini Terme\, Montecatini Terme\, Montecatini Terme\, Italy
CATEGORIES:Cultural Event / Festival,Events in Italy
END:VEVENT
BEGIN:VEVENT
DTSTART;TZID=Europe/Berlin:20250510T000000
DTEND;TZID=Europe/Berlin:20251123T235959
DTSTAMP:20260421T135409
CREATED:20250519T100626Z
LAST-MODIFIED:20250521T172239Z
UID:54225-1746835200-1763942399@joydellavita.com
SUMMARY:Venice Architecture Biennale 2025: Exploring 'Intelligens'
DESCRIPTION:Prepare to immerse yourself in the future of architecture as the prestigious Biennale di Architettura returns to Venice from May to 23rd November 2025. Renowned globally as a key platform for contemporary architectural discourse and innovation\, this major event transforms the historic city into a dynamic exhibition space. \nVenice Architecture Biennale 2025: Dates\, Location & Theme\nRunning for several months\, the Biennale is primarily hosted across the Giardini and the Arsenale venues\, alongside various collateral events held throughout Venice. The 2025 edition is anchored by the compelling theme\, “Intelligens: Natural. Artificial. Collective.” This central concept delves into the complex and evolving relationships between human intellect\, the natural world\, and artificial intelligence\, examining how these intersections are shaping architectural thought and practice today and into the future. Visitors can anticipate thought-provoking installations\, national pavilions\, and exhibitions showcasing diverse perspectives on these critical topics. \nDiscover more details and plan your visit via the official website as linked below.
URL:https://joydellavita.com/event/venice-architecture-biennale-2025/
LOCATION:Venice\, Venice\, Venice\, Italy
CATEGORIES:Cultural Event / Festival,Events in Italy
END:VEVENT
BEGIN:VEVENT
DTSTART;TZID=Europe/Berlin:20250614T000000
DTEND;TZID=Europe/Berlin:20250905T235959
DTSTAMP:20260421T135409
CREATED:20250520T080903Z
LAST-MODIFIED:20250521T172239Z
UID:54271-1749859200-1757116799@joydellavita.com
SUMMARY:Estate Fiesolana 2025: Italy's Oldest Open-Air Festival
DESCRIPTION:Prepare to be enchanted by the 78th edition of Estate Fiesolana\, Italy’s most historic multidisciplinary open-air festival. Running from 14th June to 5th September 2025\, this esteemed event transforms Fiesole\, near Florence\, into a vibrant hub of arts and culture. Rooted in a tradition dating back to 1911\, Estate Fiesolana has been a celebrated fixture since 1947\, consistently delivering world-class entertainment. \nEstate Fiesolana 2025: A Rich Programme in Historic Settings\nEach summer\, the festival curates an eclectic programme of theatre\, music\, dance\, and cinema\, featuring both national and international artists. The captivating Roman Theatre of Fiesole serves as the primary stage\, offering an unparalleled historical backdrop\, complemented by other prestigious venues across Fiesole and its charming surroundings. Highlights include the traditional Festa della Musica on 21st June\, and “Il Cinema sotto le Stelle” from 7th to 23rd August\, showcasing acclaimed films. \nPrestigious Accolades and Cultural Immersion\nEstate Fiesolana is also renowned for hosting the prestigious Premio Fiesole ai Maestri del Cinema\, an award previously bestowed upon legendary figures such as Orson Welles\, Stanley Kubrick\, and Spike Lee. This cultural celebration\, offering tickets from €0 to €46\, promises an unforgettable summer experience amidst Tuscany’s timeless beauty. \nEvent Details Dates: 14th June – 5th September 2025\nLocation: Via Portigiani\, 1\, 50014 Fiesole FI\, Italy\nWebsite: as linked below
URL:https://joydellavita.com/event/estate-fiesolana-2025-italys-oldest-open-air-festival/
LOCATION:Fiesole\, Fiesole\, Fiesole\, Italy
CATEGORIES:Cultural Event / Festival,Events in Italy
END:VEVENT
BEGIN:VEVENT
DTSTART;TZID=Europe/Berlin:20250621T000000
DTEND;TZID=Europe/Berlin:20250907T235959
DTSTAMP:20260421T135409
CREATED:20250520T083207Z
LAST-MODIFIED:20250521T172239Z
UID:54291-1750464000-1757289599@joydellavita.com
SUMMARY:Medieval Pageantry at Arezzo's Giostra del Saracino 2025
DESCRIPTION:Step back in time with the Giostra del Saracino di Arezzo\, a significant and beloved secular tradition with medieval origins. This captivating folkloric event\, a highlight of the Tuscan calendar\, transforms Piazza Grande into a historical arena twice a year. In 2025\, the spectacle unfolds on the evening of Saturday\, 21st June (the Giostra di San Donato\, honouring the city’s patron saint) and again on the day of Sunday\, 7th September (the Giostra della Madonna del Conforto\, dedicated to Arezzo’s protectress). \nDating back to the Middle Ages\, as even referenced by Dante Alighieri\, the Giostra del Saracino sees Arezzo’s four city quarters – Porta Crucifera\, Porta del Foro\, Porta Sant’Andrea\, and Porta Santo Spirito – vie for the coveted Lancia d’Oro (Golden Lance). Each quarter fields two knights\, or ‘giostratori’\, who charge down the lizza\, a strip of beaten earth\, aiming their wooden lances at the ‘Buratto’\, a spring-loaded metallic dummy armed with a flail. Precision is key as they score points based on where they strike the target. \nThe competition is a feast for the senses\, preceded by a vibrant historical procession\, the dramatic performance of the Sbandieratori (flag-wavers)\, and the stirring sound of trumpets from the Giostra del Saracino Music Group. This immersive event offers a unique glimpse into the heart of Tuscan history and tradition. \nKey Information: \n\nWhen: 21st June and 7th September 2025\nWhere: Piazza Grande\, Arezzo\, Italy\nWebsite: linked below
URL:https://joydellavita.com/event/arezzo-giostra-del-saracino-2025/
LOCATION:Arezzo\, Arezzo\, Arezzo\, Italy
CATEGORIES:Cultural Event / Festival,Events in Italy
END:VEVENT
BEGIN:VEVENT
DTSTART;TZID=Europe/Berlin:20250902T000000
DTEND;TZID=Europe/Berlin:20250907T235959
DTSTAMP:20260421T135409
CREATED:20250513T095041Z
LAST-MODIFIED:20250515T184628Z
UID:54043-1756771200-1757289599@joydellavita.com
SUMMARY:Coca-Cola Pizza Village Milan 2025 - Pizza Festival
DESCRIPTION:Welcome to Pizza Village Milan – prepare for a celebration of Italian culinary identity as the Coca-Cola Pizza Village returns to Milan’s splendid CityLife Park from 2nd to 7th September 2025. This vibrant event combines the artistry of the best Italian Pizza Masters with a lively mix of music\, entertainment\, and activities for all ages. \nPizza Village Event Highlights\nFollowing two highly successful editions\, the Pizza Village offers a true ode to pizza\, served by master craftsmen using excellent ingredients. Visitors can enjoy great shows and live music lighting up the stage each evening. Experience the convenience of fully digital ordering\, allowing seamless payment via smartphone. CityLife Park provides a stunning\, modern backdrop for this delicious festival. \nRead more about the event in the Pizza Blogpost Archive.
URL:https://joydellavita.com/event/pizza-village-milan-2025/
LOCATION:Milan CityLife Park\, Piazza Elsa Morante\, Milan\, 20145\, Italy
CATEGORIES:Events in Italy,Food Event / Food Festival / Gourmet Fair,Italy
END:VEVENT
BEGIN:VEVENT
DTSTART;TZID=Europe/Berlin:20250902T000000
DTEND;TZID=Europe/Berlin:20250912T235959
DTSTAMP:20260421T135409
CREATED:20250518T183803Z
LAST-MODIFIED:20250521T172222Z
UID:54209-1756771200-1757721599@joydellavita.com
SUMMARY:Venice Film Festival 2025: Experience the World's Oldest Cinematic Showcase
DESCRIPTION:Prepare for eleven days of cinematic brilliance as the Venice Film Festival returns from 2nd to 12th September 2025. Held in the enchanting city of Venice\, this prestigious event holds the title of the world’s oldest film festival\, drawing filmmakers\, actors\, critics\, and cinephiles from across the globe. \nA Global Celebration of Film \nHosted annually\, the festival serves as a vital platform for premiering a diverse array of international film productions\, from groundbreaking independent features to highly anticipated studio releases. The atmosphere in Venice during the festival is electric\, blending the city’s historic charm with the glamour of the silver screen. A central highlight is the awarding of esteemed prizes\, most notably the coveted Golden Lion (Leone d’Oro)\, recognising excellence in filmmaking. Attending offers a unique opportunity to immerse oneself in global cinema and experience the start of awards season buzz. \nEvent Details \nDates: 2nd – 12th September 2025\nLocation: Venice\, Italy
URL:https://joydellavita.com/event/venice-film-festival-2025/
LOCATION:Venice\, Venice\, Venice\, Italy
CATEGORIES:Cultural Event / Festival,Events in Italy
END:VEVENT
BEGIN:VEVENT
DTSTART;TZID=Europe/Berlin:20250906T000000
DTEND;TZID=Europe/Berlin:20250907T235959
DTSTAMP:20260421T135409
CREATED:20250521T103839Z
LAST-MODIFIED:20250521T172222Z
UID:54350-1757116800-1757289599@joydellavita.com
SUMMARY:Fiera Antiquaria di Arezzo Antique Fair September 2025
DESCRIPTION:Step into a world of timeless elegance at the Fiera Antiquaria di Arezzo\, Italy’s oldest and most renowned antique fair. On Saturday 6th and Sunday 7th September 2025\, the historic heart of Arezzo\, including the stunning Piazza Grande and Logge Vasari\, transforms into an unparalleled open-air museum. \nFiera Antiquaria di Arezzo – Antique Fair in September 2025\nSince its inception in 1968 by collector Ivan Bruschi\, this celebrated market has taken place monthly\, drawing over 500 exhibitors from across Italy. Visitors can browse an incredible array of antiques\, from vintage furniture and classic paintings to rare books\, antique toys\, timepieces\, ceramics\, and fascinating curiosities. Whether you’re a seasoned collector hunting for that missing piece or a curious tourist seeking a unique souvenir\, the fair offers an exciting treasure hunt. \nExploring Arezzo\nBeyond the market\, the Fiera Antiquaria is a perfect opportunity to explore Arezzo itself – a beautiful Tuscan city rich in art and history\, often delightfully less crowded than other famous destinations. Immerse yourself in the vibrant atmosphere and uncover a piece of Italy’s past. \nDiscover all Events in Arezzo in 2025 and beyond. \nKey Information: \n\nDates: 6th & 7th September 2025 (and every first Sunday of the month and preceding Saturday)\nLocation: Piazza Grande\, Arezzo\, Tuscany\, Italy\nWebsite: fieraantiquaria.org
URL:https://joydellavita.com/event/fiera-antiquaria-di-arezzo-antique-fair-september-2025/
LOCATION:Arezzo\, Arezzo\, Arezzo\, Italy
CATEGORIES:Cultural Event / Festival,Events in Italy
END:VEVENT
BEGIN:VEVENT
DTSTART;TZID=Europe/Berlin:20250907T000000
DTEND;TZID=Europe/Berlin:20250907T235959
DTSTAMP:20260421T135409
CREATED:20250518T173819Z
LAST-MODIFIED:20250521T172222Z
UID:54201-1757203200-1757289599@joydellavita.com
SUMMARY:Formula 1 Italian Grand Prix at Monza 2025
DESCRIPTION:Prepare for an unparalleled spectacle of speed and passion as Formula 1 returns to the legendary Autodromo Nazionale Monza for the Italian Grand Prix. Scheduled for 7th September 2025\, this historic race is a cornerstone of the F1 calendar\, set within Monza’s royal park just north of Milan. \nExperience the Thrill \nKnown as the “Temple of Speed” due to its fast straights\, Monza offers an electrifying atmosphere. Fans flock from around the globe to witness top drivers and teams compete in one of the most anticipated races of the season. The event promises a weekend filled with the roar of engines\, thrilling overtakes\, and the vibrant ‘tifosi’ support for Scuderia Ferrari. While tickets and official schedules are managed by organisers\, attending the Italian Grand Prix is an unforgettable experience for motorsport enthusiasts visiting Italy. \nEvent Details \nMain Race Date: 7th September 2025 \nLocation: Autodromo Nazionale Monza\, Italy.
URL:https://joydellavita.com/event/formula-1-italian-grand-prix-at-monza-2025/
LOCATION:Monza\, Parco di Monza\, Monza\, Italy
CATEGORIES:Automotive Event/ Car Fair
END:VEVENT
BEGIN:VEVENT
DTSTART;TZID=Europe/Berlin:20250908T000000
DTEND;TZID=Europe/Berlin:20250908T235959
DTSTAMP:20260421T135409
CREATED:20250521T101650Z
LAST-MODIFIED:20250521T172222Z
UID:54338-1757289600-1757375999@joydellavita.com
SUMMARY:The Corteggio Storico di Prato: A Timeless Tuscan Tradition
DESCRIPTION:Immerse yourself in centuries of history and devotion at the Corteggio Storico di Prato\, an annual celebration held on 8th September in Prato\, Tuscany. This magnificent event commemorates the Nativity of the Madonna and the display of the Sacred Girdle (Sacra Cintola)\, a revered relic housed within Prato Cathedral’s chapel. Dating back over eight centuries\, this deeply rooted tradition combines solemn religious rites with vibrant civil festivities\, captivating locals and visitors alike. \nCorteggio Storico di Prato: A Day of Spectacle and Devotion\nThe day begins with the symbolic “Delivery of the Prato Municipality’s Candles” ceremony on the Cathedral square. As the day unfolds\, the city centre comes alive with street performances and various collateral events\, offering a rich tapestry of local culture. The highlight of the evening is the Corteggio Storico itself\, a grand historical parade featuring over five hundred costumed participants. Led by the City Armed Guard and Municipal Valets\, the procession\, marked by the Gonfalone (banner) of Prato emerging from the Palazzo Comunale\, winds its way through the city to the Duomo’s forecourt for the sacred Ostensione ritual. \nPlan Your Visit to Corteggio Storico di Prato\nLocation: Piazza del Duomo\, 1\, 59100 Prato PO\, Italy\nDate: 8th September
URL:https://joydellavita.com/event/the-corteggio-storico-di-prato-a-timeless-tuscan-tradition/
LOCATION:Prato\, Prato\, Prato\, Italy
CATEGORIES:Cultural Event / Festival,Events in Italy
END:VEVENT
BEGIN:VEVENT
DTSTART;TZID=Europe/Berlin:20250911T000000
DTEND;TZID=Europe/Berlin:20250914T235959
DTSTAMP:20260421T135409
CREATED:20250519T101017Z
LAST-MODIFIED:20250521T172221Z
UID:54229-1757548800-1757894399@joydellavita.com
SUMMARY:Expo Chianti Classico in Greve in Chianti in 2025
DESCRIPTION:Set in the heart of its unique production territory\, the Expo Chianti Classico in Greve in Chianti is a premier event for enthusiasts of the renowned Chianti Classico wine. Scheduled for September 2025 (11th till 14th)\, this annual festival offers an unparalleled opportunity to delve into the world of the Gallo Nero. \nExpo Chianti Classico in Greve in Chianti: Event Highlights\nOrganised by the Municipality of Greve in Chianti\, this is the only event that gathers producers from all the communes of the Chianti Classico area in one central location. Visitors can meet the winemakers directly\, taste a wide range of Chianti Classico wines\, and purchase bottles straight from the source. \nBeyond the wine\, the Expo transforms Greve in Chianti into a vibrant hub with a rich programme of artistic and cultural events\, activities celebrating rural life\, and intimate encounters offering insights into the vineyards and cellars. It’s an essential date for anyone wishing to truly experience Chianti wine within its historical landscape. \nKey Information about Expo Chianti Classico\nDates: September 2025 (exact dates TBC)\nLocation: Greve in Chianti\, Tuscany\, Italy
URL:https://joydellavita.com/event/expo-chianti-classico-2025/
LOCATION:Chianti\, Chianti\, Chianti\, Tuscany\, Italy
CATEGORIES:Food Event / Food Festival / Gourmet Fair
END:VEVENT
BEGIN:VEVENT
DTSTART;TZID=Europe/Berlin:20250913T000000
DTEND;TZID=Europe/Berlin:20250914T235959
DTSTAMP:20260421T135409
CREATED:20250521T085438Z
LAST-MODIFIED:20250521T172221Z
UID:54329-1757721600-1757894399@joydellavita.com
SUMMARY:Festa di Santa Croce in Lucca 2025
DESCRIPTION:Immerse yourself in the captivating tradition of the Festa di Santa Croce in Lucca\, Tuscany\, from 13th to 14th September each year. This historic celebration honours the revered Volto Santo\, a wooden crucifix housed in the city’s Duomo di San Martino\, believed to depict the true face of Jesus. Known as the “City of 100 Churches\,” Lucca truly comes alive for this significant religious and cultural event. \nA Night of Light and History: The Luminara di Santa Croce\nThe highlight of the festivities is undoubtedly the mesmerising Luminara di Santa Croce on the evening of 13th September. As dusk falls\, the medieval streets and squares of Lucca’s historic centre are transformed by the warm glow of thousands of candles and traditional oil lamps. A spectacular procession unfolds\, featuring costumed figures parading amongst spectators\, tracing the ancient “miraculous path” of the Volto Santo from the Basilica di San Frediano to the Duomo di San Martino. This evocative route passes through iconic landmarks such as Via Fillungo and Piazza San Michele\, culminating with a solemn polyphonic performance\, the ‘mottettone’\, inside the Cathedral. \nSolemn Mass and Cultural Richness\nThe celebrations continue on 14th September with a solemn mass\, further cementing the spiritual importance of the event. The Festa di Santa Croce offers a unique blend of religious devotion\, historical re-enactment\, and authentic Tuscan folklore\, making it a truly unforgettable experience for visitors. Discover why this ancient tradition remains a beloved annual spectacle in Lucca. \nEvent Information \nWhat: Festa di Santa Croce\nWhen: 13th – 14th September (Annually)\nWhere: Duomo di San Martino\, Piazza S. Martino\, 4\, 55100 Lucca LU\, Italy\nWebsite: luccaturismo.it
URL:https://joydellavita.com/event/festa-di-santa-croce-in-lucca-2025/
LOCATION:Lucca\, Lucca\, Lucca\, Tuscany\, Italy
CATEGORIES:Cultural Event / Festival,Events in Italy
END:VEVENT
BEGIN:VEVENT
DTSTART;TZID=Europe/Berlin:20250929T000000
DTEND;TZID=Europe/Berlin:20251004T235959
DTSTAMP:20260421T135409
CREATED:20250505T182919Z
LAST-MODIFIED:20250515T184611Z
UID:53554-1759104000-1759622399@joydellavita.com
SUMMARY:Südtirol Classic Golden Edition 2025 Classic Car Rally
DESCRIPTION:Experience the thrill of a classic car rally amidst the breathtaking South Tyrolean mountains at the Südtirol Classic Golden Edition 2025. From 29th September to 4th October 2025\, Schenna\, South Tyrol\, becomes the hub for this prestigious event. Participants will navigate their vintage vehicles through stunning alpine landscapes\, enjoying a unique blend of sporting challenge and scenic beauty. \nThis rally promises an unforgettable journey for classic car enthusiasts and spectators alike\, showcasing timeless automotive elegance against a dramatic natural backdrop. Whether you’re a participant or planning to spectate\, the Südtirol Classic Golden Edition offers a golden opportunity to witness these magnificent machines in action. \nEvent Details: Südtirol Classic Golden Edition 2025 Classic Car Rally\nWhat: Classic car rally\nWhere: Schenna\, South Tyrol\nWhen: 29th September – 4th October 2025
URL:https://joydellavita.com/event/sudtirol-classic-golden-edition-2025-classic-car-rally/
LOCATION:Schenna\, South Tyrol\, City Centre\, Schenna\, Italy
CATEGORIES:Automotive Event/ Car Fair,Classic Car / Vintage Cars Event,Events in Italy
END:VEVENT
END:VCALENDAR