BEGIN:VCALENDAR
VERSION:2.0
PRODID:-//Joy della Vita - ECPv6.15.20//NONSGML v1.0//EN
CALSCALE:GREGORIAN
METHOD:PUBLISH
X-WR-CALNAME:Joy della Vita
X-ORIGINAL-URL:https://joydellavita.com
X-WR-CALDESC:Events for Joy della Vita
REFRESH-INTERVAL;VALUE=DURATION:PT1H
X-Robots-Tag:noindex
X-PUBLISHED-TTL:PT1H
BEGIN:VTIMEZONE
TZID:Europe/Berlin
BEGIN:DAYLIGHT
TZOFFSETFROM:+0100
TZOFFSETTO:+0200
TZNAME:CEST
DTSTART:20240331T010000
END:DAYLIGHT
BEGIN:STANDARD
TZOFFSETFROM:+0200
TZOFFSETTO:+0100
TZNAME:CET
DTSTART:20241027T010000
END:STANDARD
BEGIN:DAYLIGHT
TZOFFSETFROM:+0100
TZOFFSETTO:+0200
TZNAME:CEST
DTSTART:20250330T010000
END:DAYLIGHT
BEGIN:STANDARD
TZOFFSETFROM:+0200
TZOFFSETTO:+0100
TZNAME:CET
DTSTART:20251026T010000
END:STANDARD
BEGIN:DAYLIGHT
TZOFFSETFROM:+0100
TZOFFSETTO:+0200
TZNAME:CEST
DTSTART:20260329T010000
END:DAYLIGHT
BEGIN:STANDARD
TZOFFSETFROM:+0200
TZOFFSETTO:+0100
TZNAME:CET
DTSTART:20261025T010000
END:STANDARD
END:VTIMEZONE
BEGIN:VEVENT
DTSTART;TZID=Europe/Berlin:20251023T000000
DTEND;TZID=Europe/Berlin:20251026T235959
DTSTAMP:20260424T205216
CREATED:20250505T192813Z
LAST-MODIFIED:20250515T184314Z
UID:53570-1761177600-1761523199@joydellavita.com
SUMMARY:Auto e Moto d'Epoca 2025: Europe's Premier Classic Vehicle Fair Returns
DESCRIPTION:Prepare for one of Europe’s most significant events dedicated to classic motoring! Auto e Moto d’Epoca 2025 is set to open its doors in Bologna\, offering enthusiasts\, collectors\, and industry professionals an unparalleled experience. This renowned trade fair is a cornerstone in the classic vehicle calendar\, attracting visitors from across the continent and beyond. \nQuick facts\nTaking place from 23rd to 26th October 2025\, the event will be hosted at the expansive Bologna Fiere exhibition centre in Bologna\, Italy. This modern venue provides the perfect backdrop for showcasing thousands of stunning vehicles and related exhibits. \nWhats awaiting you at Auto e Moto d’Epoca\nAs one of the largest and most important gatherings of its kind\, Auto e Moto d’Epoca features an incredible selection of classic cars\, vintage motorcycles\, and essential spare parts. Whether you’re seeking a dream vehicle\, a rare component\, or simply wish to admire automotive history\, this event promises a wealth of discoveries.
URL:https://joydellavita.com/event/auto-e-moto-depoca-2025/
LOCATION:Bologna\, City Centre\, Bologna\, Italy
CATEGORIES:Automotive Event/ Car Fair,Events in Italy
END:VEVENT
END:VCALENDAR