BEGIN:VCALENDAR
VERSION:2.0
PRODID:-//Joy della Vita - ECPv6.15.20//NONSGML v1.0//EN
CALSCALE:GREGORIAN
METHOD:PUBLISH
X-ORIGINAL-URL:https://joydellavita.com
X-WR-CALDESC:Events for Joy della Vita
REFRESH-INTERVAL;VALUE=DURATION:PT1H
X-Robots-Tag:noindex
X-PUBLISHED-TTL:PT1H
BEGIN:VTIMEZONE
TZID:Europe/Berlin
BEGIN:DAYLIGHT
TZOFFSETFROM:+0100
TZOFFSETTO:+0200
TZNAME:CEST
DTSTART:20250330T010000
END:DAYLIGHT
BEGIN:STANDARD
TZOFFSETFROM:+0200
TZOFFSETTO:+0100
TZNAME:CET
DTSTART:20251026T010000
END:STANDARD
BEGIN:DAYLIGHT
TZOFFSETFROM:+0100
TZOFFSETTO:+0200
TZNAME:CEST
DTSTART:20260329T010000
END:DAYLIGHT
BEGIN:STANDARD
TZOFFSETFROM:+0200
TZOFFSETTO:+0100
TZNAME:CET
DTSTART:20261025T010000
END:STANDARD
BEGIN:DAYLIGHT
TZOFFSETFROM:+0100
TZOFFSETTO:+0200
TZNAME:CEST
DTSTART:20270328T010000
END:DAYLIGHT
BEGIN:STANDARD
TZOFFSETFROM:+0200
TZOFFSETTO:+0100
TZNAME:CET
DTSTART:20271031T010000
END:STANDARD
END:VTIMEZONE
BEGIN:VEVENT
DTSTART;TZID=Europe/Berlin:20260124T000000
DTEND;TZID=Europe/Berlin:20260125T235959
DTSTAMP:20260424T154406
CREATED:20250515T125913Z
LAST-MODIFIED:20250515T172859Z
UID:54148-1769212800-1769385599@joydellavita.com
SUMMARY:Wedding Fair Bologna Sì Sposa 2026
DESCRIPTION:For couples dreaming of tying the knot\, Bologna Sì Sposa 2026 presents an unmissable opportunity. Held at Bologna Fiere from 24th to 25th January 2026\, this prominent wedding fair showcases everything needed to plan that perfect day in Italy. \nDiscover Your Wedding Essentials \nVisitors can explore a comprehensive range of exhibitors covering all aspects of wedding planning. From exquisite bridal gowns and stunning jewellery to expert catering services and beauty specialists\, the fair brings together leading professionals ready to help craft unforgettable celebrations. It’s a prime destination for inspiration and connecting directly with suppliers. \nEvent Information \nDates: 24th – 25th January 2026. \nVenue: Bologna Fiere\, Bologna\, Italy.
URL:https://joydellavita.com/event/wedding-fair-bologna-si-sposa-2026/
LOCATION:Bologna\, City Centre\, Bologna\, Italy
CATEGORIES:Events in Italy,Wedding Fair
END:VEVENT
END:VCALENDAR