BEGIN:VCALENDAR
VERSION:2.0
PRODID:-//Joy della Vita - ECPv6.15.20//NONSGML v1.0//EN
CALSCALE:GREGORIAN
METHOD:PUBLISH
X-WR-CALNAME:Joy della Vita
X-ORIGINAL-URL:https://joydellavita.com
X-WR-CALDESC:Events for Joy della Vita
REFRESH-INTERVAL;VALUE=DURATION:PT1H
X-Robots-Tag:noindex
X-PUBLISHED-TTL:PT1H
BEGIN:VTIMEZONE
TZID:Europe/Berlin
BEGIN:DAYLIGHT
TZOFFSETFROM:+0100
TZOFFSETTO:+0200
TZNAME:CEST
DTSTART:20240331T010000
END:DAYLIGHT
BEGIN:STANDARD
TZOFFSETFROM:+0200
TZOFFSETTO:+0100
TZNAME:CET
DTSTART:20241027T010000
END:STANDARD
BEGIN:DAYLIGHT
TZOFFSETFROM:+0100
TZOFFSETTO:+0200
TZNAME:CEST
DTSTART:20250330T010000
END:DAYLIGHT
BEGIN:STANDARD
TZOFFSETFROM:+0200
TZOFFSETTO:+0100
TZNAME:CET
DTSTART:20251026T010000
END:STANDARD
BEGIN:DAYLIGHT
TZOFFSETFROM:+0100
TZOFFSETTO:+0200
TZNAME:CEST
DTSTART:20260329T010000
END:DAYLIGHT
BEGIN:STANDARD
TZOFFSETFROM:+0200
TZOFFSETTO:+0100
TZNAME:CET
DTSTART:20261025T010000
END:STANDARD
END:VTIMEZONE
BEGIN:VEVENT
DTSTART;TZID=Europe/Berlin:20251106T000000
DTEND;TZID=Europe/Berlin:20251109T235959
DTSTAMP:20260422T142839
CREATED:20250515T131514Z
LAST-MODIFIED:20250515T184300Z
UID:54154-1762387200-1762732799@joydellavita.com
SUMMARY:Explore Autumn Delights at Fiera d'Autunno 2025 in Bolzano
DESCRIPTION:Prepare for an autumnal celebration of lifestyle and innovation at the Fiera d’Autunno 2025\, taking place from 6th to 9th November at Fiera Bolzano/Messe Bozen in Bolzano\, Italy. This diverse exhibition offers visitors a comprehensive look into various aspects of modern living\, making it a key event in the region’s calendar. \nDiscover a World of Themes \nThe Fiera d’Autunno brings together a wide array of exhibitors showcasing the latest trends and products. Attendees can explore dedicated areas focusing on high-quality Food and exquisite Wine\, delve into ideas for the Home\, discover products related to Health\, and appreciate creative Art. It’s an ideal opportunity to find unique items\, gather inspiration\, and experience the vibrant atmosphere of this Italian fair. \nEvent Information \nDates: 6th – 9th November 2025. \nVenue: Fiera Bolzano/Messe Bozen\, Bolzano\, Italy.
URL:https://joydellavita.com/event/fiera-dautunno-2025-bolzano/
LOCATION:Bolzano\, Bolzano\, Bolzano\, Italy
CATEGORIES:Events in Italy,Food Event / Food Festival / Gourmet Fair
END:VEVENT
END:VCALENDAR