BEGIN:VCALENDAR
VERSION:2.0
PRODID:-//Joy della Vita - ECPv6.15.20//NONSGML v1.0//EN
CALSCALE:GREGORIAN
METHOD:PUBLISH
X-ORIGINAL-URL:https://joydellavita.com
X-WR-CALDESC:Events for Joy della Vita
REFRESH-INTERVAL;VALUE=DURATION:PT1H
X-Robots-Tag:noindex
X-PUBLISHED-TTL:PT1H
BEGIN:VTIMEZONE
TZID:Europe/Berlin
BEGIN:DAYLIGHT
TZOFFSETFROM:+0100
TZOFFSETTO:+0200
TZNAME:CEST
DTSTART:20240331T010000
END:DAYLIGHT
BEGIN:STANDARD
TZOFFSETFROM:+0200
TZOFFSETTO:+0100
TZNAME:CET
DTSTART:20241027T010000
END:STANDARD
BEGIN:DAYLIGHT
TZOFFSETFROM:+0100
TZOFFSETTO:+0200
TZNAME:CEST
DTSTART:20250330T010000
END:DAYLIGHT
BEGIN:STANDARD
TZOFFSETFROM:+0200
TZOFFSETTO:+0100
TZNAME:CET
DTSTART:20251026T010000
END:STANDARD
BEGIN:DAYLIGHT
TZOFFSETFROM:+0100
TZOFFSETTO:+0200
TZNAME:CEST
DTSTART:20260329T010000
END:DAYLIGHT
BEGIN:STANDARD
TZOFFSETFROM:+0200
TZOFFSETTO:+0100
TZNAME:CET
DTSTART:20261025T010000
END:STANDARD
END:VTIMEZONE
BEGIN:VEVENT
DTSTART;TZID=Europe/Berlin:20251018T000000
DTEND;TZID=Europe/Berlin:20251019T235959
DTSTAMP:20260425T175333
CREATED:20250515T125350Z
LAST-MODIFIED:20250515T184352Z
UID:54141-1760745600-1760918399@joydellavita.com
SUMMARY:Plan your Italian Wedding at VipSposi 2025 in Verona
DESCRIPTION:Future brides and grooms dreaming of a quintessential Italian wedding should mark their calendars for VipSposi 2025. Hosted at Fiere di Verona from 18th to 19th November 2025\, this premier wedding fair offers a wealth of inspiration and resources for planning that special day in Italy. \nDiscover Everything for Your Wedding \nVipSposi is set to showcase a comprehensive array of services and products essential for planning a dream wedding. Visitors can expect to find exquisite wedding dresses and bridal gowns\, explore the latest trends\, and connect with experts offering everything from venue options and catering to photography\, floral design\, and much more. Located in the romantic city of Verona\, the fair provides an ideal setting to gather ideas and meet suppliers to help bring your Italian wedding vision to life.
URL:https://joydellavita.com/event/plan-your-italian-wedding-at-vipsposi-2025-in-verona/
LOCATION:Verona\, Verona\, Verona\, Italy
CATEGORIES:Events in Italy,Wedding Fair
END:VEVENT
END:VCALENDAR